BEGIN:VCALENDAR
VERSION:2.0
PRODID:-//Black Women For Positive Change - ECPv6.15.19//NONSGML v1.0//EN
CALSCALE:GREGORIAN
METHOD:PUBLISH
X-ORIGINAL-URL:https://blackwomenforpositivechange.org
X-WR-CALDESC:Events for Black Women For Positive Change
REFRESH-INTERVAL;VALUE=DURATION:PT1H
X-Robots-Tag:noindex
X-PUBLISHED-TTL:PT1H
BEGIN:VTIMEZONE
TZID:America/Chicago
BEGIN:DAYLIGHT
TZOFFSETFROM:-0600
TZOFFSETTO:-0500
TZNAME:CDT
DTSTART:20240310T080000
END:DAYLIGHT
BEGIN:STANDARD
TZOFFSETFROM:-0500
TZOFFSETTO:-0600
TZNAME:CST
DTSTART:20241103T070000
END:STANDARD
BEGIN:DAYLIGHT
TZOFFSETFROM:-0600
TZOFFSETTO:-0500
TZNAME:CDT
DTSTART:20250309T080000
END:DAYLIGHT
BEGIN:STANDARD
TZOFFSETFROM:-0500
TZOFFSETTO:-0600
TZNAME:CST
DTSTART:20251102T070000
END:STANDARD
BEGIN:DAYLIGHT
TZOFFSETFROM:-0600
TZOFFSETTO:-0500
TZNAME:CDT
DTSTART:20260308T080000
END:DAYLIGHT
BEGIN:STANDARD
TZOFFSETFROM:-0500
TZOFFSETTO:-0600
TZNAME:CST
DTSTART:20261101T070000
END:STANDARD
END:VTIMEZONE
BEGIN:VTIMEZONE
TZID:America/New_York
BEGIN:DAYLIGHT
TZOFFSETFROM:-0500
TZOFFSETTO:-0400
TZNAME:EDT
DTSTART:20240310T070000
END:DAYLIGHT
BEGIN:STANDARD
TZOFFSETFROM:-0400
TZOFFSETTO:-0500
TZNAME:EST
DTSTART:20241103T060000
END:STANDARD
BEGIN:DAYLIGHT
TZOFFSETFROM:-0500
TZOFFSETTO:-0400
TZNAME:EDT
DTSTART:20250309T070000
END:DAYLIGHT
BEGIN:STANDARD
TZOFFSETFROM:-0400
TZOFFSETTO:-0500
TZNAME:EST
DTSTART:20251102T060000
END:STANDARD
BEGIN:DAYLIGHT
TZOFFSETFROM:-0500
TZOFFSETTO:-0400
TZNAME:EDT
DTSTART:20260308T070000
END:DAYLIGHT
BEGIN:STANDARD
TZOFFSETFROM:-0400
TZOFFSETTO:-0500
TZNAME:EST
DTSTART:20261101T060000
END:STANDARD
END:VTIMEZONE
BEGIN:VEVENT
DTSTART;VALUE=DATE:20251001
DTEND;VALUE=DATE:20251002
DTSTAMP:20260419T215753
CREATED:20251002T202404Z
LAST-MODIFIED:20251002T202405Z
UID:1094603-1759276800-1759363199@blackwomenforpositivechange.org
SUMMARY:2025 month of Nonviolence
DESCRIPTION:
URL:https://blackwomenforpositivechange.org/event/2025-month-of-nonviolence/
ATTACH;FMTTYPE=image/jpeg:https://blackwomenforpositivechange.org/wp-content/uploads/2025/08/2025-Month-of-Nonviolence-scaled.jpg
END:VEVENT
BEGIN:VEVENT
DTSTART;VALUE=DATE:20251001
DTEND;VALUE=DATE:20251002
DTSTAMP:20260419T215753
CREATED:20251002T204401Z
LAST-MODIFIED:20251002T204734Z
UID:1094612-1759276800-1759363199@blackwomenforpositivechange.org
SUMMARY:Peace Circle
DESCRIPTION:In partnership with Black Women for Positive Change and A Bridge 2 Light\, the Brothers of the 13th International District of Omega Psi Phi Fraternity\, Inc. invite you\, your family\, friends\, and colleagues to join us in launching the 14th Annual Month of Nonviolence. We will be hosting a powerful virtual presentation titled “The Protection of Womanhood”
URL:https://blackwomenforpositivechange.org/event/1094612/
END:VEVENT
BEGIN:VEVENT
DTSTART;TZID=America/Chicago:20251003T190000
DTEND;TZID=America/Chicago:20251003T200000
DTSTAMP:20260419T215753
CREATED:20251002T203629Z
LAST-MODIFIED:20251002T203629Z
UID:1094609-1759518000-1759521600@blackwomenforpositivechange.org
SUMMARY:The Protection of Womanhood
DESCRIPTION:In partnership with Black Women for Positive Change and A Bridge 2 Light\, the Brothers of the 13th International District of Omega Psi Phi Fraternity\, Inc. invite you\, your family\, friends\, and colleagues to join us in launching the 14th Annual Month of Nonviolence. We will be hosting a powerful virtual presentation titled “The Protection of Womanhood”
URL:https://blackwomenforpositivechange.org/event/the-protection-of-womanhood/
ATTACH;FMTTYPE=image/png:https://blackwomenforpositivechange.org/wp-content/uploads/2025/10/13th-District-Protection-of-Womanhood-flyer-2025-4-1-300x169-1.png
END:VEVENT
BEGIN:VEVENT
DTSTART;TZID=America/Chicago:20251004T130000
DTEND;TZID=America/Chicago:20251004T160000
DTSTAMP:20260419T215753
CREATED:20251002T205653Z
LAST-MODIFIED:20251002T205653Z
UID:1094617-1759582800-1759593600@blackwomenforpositivechange.org
SUMMARY:The Language of Partner Abuse: Are We Actively Listening?
DESCRIPTION:Facilitated and Sponsored by the DC Peace Team \nDate: Sat. October 4th\, 1:00am-4:00pm ET\nLocation: ONLINE (Zoom link provided after registration and about 24 hrs. before the session)**\nFor questions contact Sal Corbin at sal.corbin@yahoo.com \nEffective partner communication is essential to long-term success\, happiness\, and satisfaction in relationships. Chapman’s Five Love Languages has been a model for understanding the language of our significant other. This session reveals the psychological foundations for unhealthy communication which can challenge people’s sense of safety and security in the world and compromise their identity which informs their relationship choices. Abuse or neglect towards partners can be one of these outcomes. We will focus on language preferences that intentionally or unintentionally cause harm through manipulation\, deceit\, or control. Alternate ways of effectively communication will be visited and demonstrated. \nObjectives:\n1)    Awareness – raise awareness of effective communication\n2)    Insight – Review typical communication styles that produce harm\n3)    Skills – learn how to support families/friends/colleagues/neighbors that are in abusive relations\n4)    Provide resources for partner violence situations
URL:https://blackwomenforpositivechange.org/event/the-language-of-partner-abuse-are-we-actively-listening/
LOCATION:Virtual Event
ATTACH;FMTTYPE=image/jpeg:https://blackwomenforpositivechange.org/wp-content/uploads/2025/10/10_4-The-Language-of-Partner-Abuse-240x300-1.jpg
END:VEVENT
BEGIN:VEVENT
DTSTART;TZID=America/New_York:20251005T193000
DTEND;TZID=America/New_York:20251005T203000
DTSTAMP:20260419T215753
CREATED:20251002T223005Z
LAST-MODIFIED:20251003T032023Z
UID:1094629-1759692600-1759696200@blackwomenforpositivechange.org
SUMMARY:7 Days of Prayer for the Month of Nonviolence\, Families and Understanding AI
DESCRIPTION:
URL:https://blackwomenforpositivechange.org/event/7-days-of-prayer-for-the-month-of-nonviolence-families-and-understanding-ai/
LOCATION:Virtual Event
ATTACH;FMTTYPE=image/jpeg:https://blackwomenforpositivechange.org/wp-content/uploads/2025/10/IMG_7945-300x240-1.jpg
END:VEVENT
END:VCALENDAR